BEGIN:VCALENDAR
VERSION:2.0
PRODID:-//wp-events-plugin.com//7.2.3.1//EN
BEGIN:VEVENT
UID:231@akademie-schwerin.de
DTSTART:20251001T083000Z
DTEND:20251001T163000Z
DTSTAMP:20250929T122639Z
URL:https://akademie-schwerin.de/veranstaltungen/12-energieforum-mecklenbu
 rg-vorpommern-wirtschaft-braucht-energie-nachhaltige-wege-in-die-zukunft/
SUMMARY:12. Energieforum Mecklenburg-Vorpommern: „Wirtschaft braucht Ener
 gie: Nachhaltige Wege in die Zukunft“
DESCRIPTION:Sehr geehrte Damen und Herren\,\n\nauch in diesem Jahr laden di
 e Industrie- und Handelskammer zu Schwerin\, die WEMAG AG\, die Stadtwerke
  Schwerin und die Akademie Schwerin e. V. zum nunmehr 12. Energieforum ein
 . Es erwarten Sie wieder spannende Vorträge und Diskussionen zu unterschi
 edlichen Aspekten der Energiewende. In gewohnter Weise bietet sich zudem d
 ie Chance zur Vernetzung und zum gegenseitigen Erfahrungsaustausch.\n\nDie
  Energiewirtschaft befindet sich in einem fundamentalen Strukturwandel\, d
 en wir gemeinsam gestalten müssen. Die Herausforderungen unserer Zeit\, b
 edingt durch Kriege und internationale Krisen\, den Klimawandel und das In
 fragestellen sicher geglaubter transatlantischer Handelsbeziehungen\, stel
 len Politik und Wirtschaft in Europa vor immense Herausforderungen.\nDiese
 n Herausforderungen müssen und wollen wir uns stellen. Dies erfordert lan
 gfristige und verlässliche politische Rahmenbedingungen\, die sich zuglei
 ch an einer realistischen Umsetzbarkeit orientieren. Die Unternehmen der E
 nergiewirtschaft benötigen eine Wirtschaftspolitik\, die Planungs- und In
 vestitionssicherheit bietet. Darüber wollen wir ins Gespräch kommen: nac
 h jedem Vortrag\, in den anschließenden Podiumsdiskussionen und im offene
 n Gespräch.\n\nÜber Ihre Teilnahme würden wir uns freuen und laden Sie 
 herzlich zum Austausch rund um das Thema „Wirtschaft braucht Energie: Na
 chhaltige Wege in die Zukunft“ ein\, am 01. Oktober 2025 ab 08:30 Uhr im
  Ludwig-Bölkow-Haus der IHK zu Schwerin. Die Teilnahme am Forum ist koste
 nfrei\, wir bitten jedoch um Ihre Anmeldung bis zum 25. September unter\nI
 HK Schwerin\nhttps://events.ihkzuschwerin.de/b?p=energieforum-mv-2025\nlus
 t@schwerin.ihk.de\nTel. 0385 5103-308 oder\nAkademie Schwerin e.V.\nhttps:
 //akademie-schwerin.de/veranstaltungen/12-energieforum-mecklenburg-vorpomm
 ern-wirtschaft-braucht-energie-nachhaltige-wege-in-die-zukunft/#em-event-b
 ooking-form\nTel. 0385 555 7090\nInformationen zum Programm finden Sie hie
 r:  Energieforum MV 2025 Programm_final\n\nDie Veranstalter
CATEGORIES:Tagung
LOCATION:IHK zu Schwerin\, Graf-Schack-Allee 12\, Schwerin\, Mecklenburg-Vo
 rpommern\, 19053\, Deutschland
X-APPLE-STRUCTURED-LOCATION;VALUE=URI;X-ADDRESS=Graf-Schack-Allee 12\, Schw
 erin\, Mecklenburg-Vorpommern\, 19053\, Deutschland;X-APPLE-RADIUS=100;X-T
 ITLE=IHK zu Schwerin:geo:0,0
END:VEVENT
END:VCALENDAR