BEGIN:VCALENDAR
VERSION:2.0
PRODID:-//wp-events-plugin.com//7.2.3.1//EN
BEGIN:VEVENT
UID:232@akademie-schwerin.de
DTSTART;VALUE=DATE:20250916
DTEND;VALUE=DATE:20250919
DTSTAMP:20250806T133252Z
URL:https://akademie-schwerin.de/veranstaltungen/80-jahre-kriegsende-erinn
 erungskultur-im-wandel-der-zeit-studienfahrt-nach-nuernberg/
SUMMARY:80 Jahre Kriegsende: Erinnerungskultur im Wandel der Zeit. Studienf
 ahrt nach Nürnberg
DESCRIPTION:Die Teilnehmerinnen und Teilnehmer:\n\n- erhalten Einblicke in 
 unterschiedliche Aspekte und Ausschnitte deutscher Geschichte mit Schwerpu
 nkt NS-Zeit\;\n\n- reflektieren die historische Entwicklung Nürnbergs als
  Stadt der Reichsparteitage sowie der Nürnberger Prozesse\;\n\n- befassen
  sich mit dem Umgang und der Aufarbeitung der NS-Zeit nach 1945\;\n\n- bet
 rachten und erarbeiten vertiefend die Bedeutung des Endes der NS-Diktatur 
 für die weitere Entwicklung Deutschlands und Europas\;\n\n- diskutieren d
 ie Bedeutung der Aufarbeitung für die Entwicklung der Demokratie in Deuts
 chland.\n\nDas Seminar vermittelt Grundlagen- und Orientierungswissen.\n\n
 Alle weiteren Informationen zum Programm und zur Anmedlung finden Sie hier
 :  2025-09-16 Nürnberg
CATEGORIES:Studienfahrt
LOCATION:B&B Hotel Nürnberg-City\, Frauentorgraben 37\, 90443  Nürnberg\,
  Deutschland
X-APPLE-STRUCTURED-LOCATION;VALUE=URI;X-ADDRESS=Frauentorgraben 37\, 90443 
  Nürnberg\, Deutschland;X-APPLE-RADIUS=100;X-TITLE=B&B Hotel Nürnberg-Ci
 ty:geo:0,0
END:VEVENT
END:VCALENDAR