BEGIN:VCALENDAR
VERSION:2.0
PRODID:-//wp-events-plugin.com//7.2.3.1//EN
BEGIN:VEVENT
UID:155@akademie-schwerin.de
DTSTART;VALUE=DATE:20230327
DTEND;VALUE=DATE:20230331
DTSTAMP:20230202T111433Z
URL:https://akademie-schwerin.de/veranstaltungen/deutsch-deutsche-geschich
 te-von-der-teilung-zur-einheit-eine-zeitreise-an-beispielen-15/
SUMMARY:Deutsch-deutsche Geschichte – von der Teilung zur Einheit. Eine Z
 eitreise an Beispielen
DESCRIPTION:Die Teilnehmerinnen und Teilnehmer\n\n- befassen sich mit ausge
 wählten Aspekten deutscher Zeitgeschichte\, insbesondere der Geschichte d
 er deutschen Teilung und der DDR\;\n\n- reflektieren die Auswirkung der bu
 ndesdeutschen „Ostpolitik“ in den 70er Jahren\;\n\n- diskutieren Vorau
 ssetzungen der Friedlichen Revolution von 1989 sowie der Wiedervereinigung
  und betrachten beider Verlauf\;\n\n- befassen sich mit der Tätigkeit des
  Ministeriums für Staatssicherheit der DDR\;\n\n- reflektieren Auswirkung
 en der DDR-Geschichte auf die politische\, wirtschaftliche und gesellschaf
 tliche Gegenwart in Ostdeutschland\;\n\n- vertiefen die historische Situat
 ion an der innerdeutschen Grenze bis 1989.\n\nDas Seminar legt auf die Ein
 beziehung von Zeitzeugen besonderen Wert. Es vermittelt Grundlagen- und Or
 ientierungswissen im Kontext.\n\nAlle weiteren Informationen zum Programm 
 und zur Anmeldung finden Sie hier:  2023-03-27 zeitgeschichte\n\n&nbsp\;\
 n\n&nbsp\;\n\n&nbsp\;\n\n&nbsp\;\n\n&nbsp\;\n\n&nbsp\;
CATEGORIES:mehrtägig,Studienfahrt
LOCATION:Akademie Schwerin e.V.\, Mecklenburgstraße 59\, Schwerin\, Meckle
 nburg-Vorpommern\, 19053\, Deutschland
X-APPLE-STRUCTURED-LOCATION;VALUE=URI;X-ADDRESS=Mecklenburgstraße 59\, Sch
 werin\, Mecklenburg-Vorpommern\, 19053\, Deutschland;X-APPLE-RADIUS=100;X-
 TITLE=Akademie Schwerin e.V.:geo:0,0
END:VEVENT
END:VCALENDAR