BEGIN:VCALENDAR
VERSION:2.0
PRODID:-//wp-events-plugin.com//7.2.3.1//EN
BEGIN:VEVENT
UID:178@akademie-schwerin.de
DTSTART;VALUE=DATE:20231211
DTEND;VALUE=DATE:20231214
DTSTAMP:20231128T093252Z
URL:https://akademie-schwerin.de/veranstaltungen/deutsch-deutsche-geschich
 te-von-der-teilung-zur-einheit-eine-zeitreise-an-beispielen-22/
SUMMARY:Deutsch-deutsche Geschichte – von der Teilung zur Einheit. Eine Z
 eitreise an Beispielen
DESCRIPTION:\n\n\nDie Teilnehmerinnen und Teilnehmer\n\n- befassen sich mit
  ausgewählten Aspekten deutscher Zeitgeschichte\, insbesondere der Geschi
 chte der deutschen Teilung und der DDR\;\n\n- diskutieren Voraussetzungen 
 der Friedlichen Revolution von 1989 sowie der Wiedervereinigung und betrac
 hten beider Verlauf\;\n\n- befassen sich mit der Tätigkeit des Ministeriu
 ms für Staatssicherheit der DDR\;\n\n- reflektieren Auswirkungen der DDR-
 Geschichte auf die politische\, wirtschaftliche und gesellschaftliche Gege
 nwart in Ostdeutschland.\n\nDas Seminar legt auf die Einbeziehung von Zeit
 zeugen besonderen Wert. Es vermittelt Grundlagen- und Orientierungswissen 
 im Kontext.\n\nAlle weiteren Informationen zum Programm und zu Anmeldung f
 inden Sie hier:2023-12-11 zeitgeschichte\n\n\n
CATEGORIES:mehrtägig,Seminar
LOCATION:Akademie Schwerin e.V.\, Mecklenburgstraße 59\, Schwerin\, Meckle
 nburg-Vorpommern\, 19053\, Deutschland
X-APPLE-STRUCTURED-LOCATION;VALUE=URI;X-ADDRESS=Mecklenburgstraße 59\, Sch
 werin\, Mecklenburg-Vorpommern\, 19053\, Deutschland;X-APPLE-RADIUS=100;X-
 TITLE=Akademie Schwerin e.V.:geo:0,0
END:VEVENT
END:VCALENDAR