BEGIN:VCALENDAR
VERSION:2.0
PRODID:-//wp-events-plugin.com//7.2.3.1//EN
BEGIN:VEVENT
UID:3@akademie-schwerin.de
DTSTART;VALUE=DATE:20190401
DTEND;VALUE=DATE:20190405
DTSTAMP:20190321T140118Z
URL:https://akademie-schwerin.de/veranstaltungen/deutsch-deutsche-geschich
 te-von-der-teilung-zur-einheit-eine-zeitreise-an-beispielen/
SUMMARY:Deutsch-deutsche Geschichte – von der Teilung zur Einheit – Ein
 e Zeitreise an Beispielen
DESCRIPTION:Die Teilnehmerinnen und Teilnehmer\n\n 	befassen sich mit ausge
 wählten Aspekten deutscher Zeitgeschichte\, insbesondere der Geschichte d
 er deutschen Teilung und der DDR\n 	diskutieren Voraussetzungen der Friedl
 ichen Revolution von 1989 sowie der Wiedervereinigung und betrachten beide
 r Verlauf\n 	befassen sich mit der Tätigkeit des Ministeriums für Staats
 sicherheit der DDR\n 	reflektieren Auswirkungen der DDR-Geschichte auf die
  politische\, wirtschaftliche und gesellschaftliche Gegenwart in Ostdeutsc
 hland\n 	vertiefen in einer Exkursion die historische Situation an der inn
 erdeutschen Grenze bis 1989.\n\nDas Seminar legt auf die Einbeziehung von 
 Zeitzeugen besonderen Wert. Es vermittelt Grundlagen- und Orientierungswis
 sen im Kontext.\nEs beinhaltet Fahrten nach Lübeck\, Görslow und Schlags
 dorf\n\nBuchung bis 18.03.2019 per Mail\, Fax\, Post\,Telefon oder gleich 
 hier. Ihre Anmeldung gilt als angenommen\, wenn Sie keine Absage erhalten\
 n\nWeitere Informationen entnehmen Sie bitte dieser PDF-Datei (419 kb)
CATEGORIES:mehrtägig,Seminar
LOCATION:Tagungszentrum am Schloss\, Mecklenburgstraße 59\, Schwerin\, Mec
 klenburg-Vorpommern\, 19053\, Deutschland
X-APPLE-STRUCTURED-LOCATION;VALUE=URI;X-ADDRESS=Mecklenburgstraße 59\, Sch
 werin\, Mecklenburg-Vorpommern\, 19053\, Deutschland;X-APPLE-RADIUS=100;X-
 TITLE=Tagungszentrum am Schloss:geo:0,0
END:VEVENT
END:VCALENDAR