BEGIN:VCALENDAR
VERSION:2.0
PRODID:-//wp-events-plugin.com//7.2.3.1//EN
BEGIN:VEVENT
UID:30@akademie-schwerin.de
DTSTART;VALUE=DATE:20191022
DTEND;VALUE=DATE:20191026
DTSTAMP:20190911T125113Z
URL:https://akademie-schwerin.de/veranstaltungen/deutsche-zeitgeschichte-u
 nd-politische-gegenwart-vor-ort-studienfahrt-nach-berlin-2/
SUMMARY:Deutsche Zeitgeschichte und politische Gegenwart vor Ort: Studienfa
 hrt nach Berlin
DESCRIPTION:Die Teilnehmerinnen und Teilnehmer\n\n- erhalten vertiefte Einb
 licke in unterschiedliche Aspekte und Ausschnitte deutscher Geschichte und
  Zeitgeschichte\;\n- reflektieren die historische und gegenwärtige Entwic
 klung Berlin als deutscher Hauptstadt\n- befassen sich mit ausgewählten A
 spekten der Geschichte der DDR und des Prozesses von der deutschen Teilung
  zur Wiedervereinigung.\n\nDie Teilnehmerinnen und Teilnehmer erhalten Üb
 erblicks- und Orientierungswissen im vermittelten Kontext.\n\nWeitere Info
 rmationen entnehmen Sie bitte dieser PDF. (294 kB)\n\nTeilnehmer: Interess
 ierte Bürgerinnen und Bürger\n\nAnmeldung bis spätestens 08.10.2019 per
  Post\, Telefon\, Fax\, Mail oder gleich hier. Ihre Anmeldung gilt als ang
 enommen\, wenn Sie keine Absage erhalten.\n\nVeranstalter: Akademie Schwer
 in e.V.
CATEGORIES:mehrtägig,Studienfahrt
LOCATION:Berlin\, Eldenholz 23\, Berlin\, 10117\, Deutschland
X-APPLE-STRUCTURED-LOCATION;VALUE=URI;X-ADDRESS=Eldenholz 23\, Berlin\, 101
 17\, Deutschland;X-APPLE-RADIUS=100;X-TITLE=Berlin:geo:0,0
END:VEVENT
END:VCALENDAR