BEGIN:VCALENDAR
VERSION:2.0
PRODID:-//wp-events-plugin.com//7.2.3.1//EN
BEGIN:VEVENT
UID:24@akademie-schwerin.de
DTSTART;VALUE=DATE:20190923
DTEND;VALUE=DATE:20190927
DTSTAMP:20190812T084714Z
URL:https://akademie-schwerin.de/veranstaltungen/deutsche-zeitgeschichte-u
 nd-politische-gegenwart-vor-ort-studienfahrt-nach-berlin/
SUMMARY:Deutsche Zeitgeschichte und politische Gegenwart vor Ort: Studienfa
 hrt nach Berlin
DESCRIPTION:Die Teilnehmerinnen und Teilnehmer\n\n- erhalten vertiefte Einb
 licke in unterschiedliche Aspekte und Ausschnitte deutscher Geschichte und
  Zeitgeschichte\;\n- reflektieren die historische und gegenwärtige Entwic
 klung Berlin als deutscher Hauptstadt\;\n- befassen sich mit ausgewählten
  Aspekten der deutschen Teilung und der Geschichte der DDR.\n\nIm abschlie
 ßenden Exkurs zum „Wald der Erinnerung“ lernen die Teilnehmerinnen un
 d Teilnehmer ein Beispiel aktueller\, zeitgenössisch geprägter Gedenkkul
 tur kennen und reflektieren Folgen und Rahmenbedingungen gegenwärtiger Po
 litik.\n\nWeitere Informationen entnehmen Sie bitte dieser PDF. (294 kB)\n
 \nTeilnehmer: Interessierte Bürgerinnen und Bürger\n\nAnmeldung bis spä
 testens 09.09.2019 per Post\, Telefon\, Fax\, Mail oder gleich hier. Ihre 
 Anmeldung gilt als angenommen\, wenn Sie keine Absage erhalten.\n\nVeranst
 alter: Akademie Schwerin e.V.
CATEGORIES:mehrtägig,Studienfahrt
LOCATION:Berlin\, Eldenholz 23\, Berlin\, 10117\, Deutschland
X-APPLE-STRUCTURED-LOCATION;VALUE=URI;X-ADDRESS=Eldenholz 23\, Berlin\, 101
 17\, Deutschland;X-APPLE-RADIUS=100;X-TITLE=Berlin:geo:0,0
END:VEVENT
END:VCALENDAR