BEGIN:VCALENDAR
VERSION:2.0
PRODID:-//wp-events-plugin.com//7.2.3.1//EN
BEGIN:VEVENT
UID:261@akademie-schwerin.de
DTSTART:20260505T180000Z
DTEND:20260505T193000Z
DTSTAMP:20260413T095834Z
URL:https://akademie-schwerin.de/veranstaltungen/die-gedenk-und-kriegsgrae
 berstaette-golm/
SUMMARY:Die Gedenk- und Kriegsgräberstätte Golm
DESCRIPTION:Die Teilnahme ist kostenfrei.
ATTACH;FMTTYPE=image/jpeg:https://akademie-schwerin.de/wp-content/uploads/
 2026/04/MV-nach-dem-Krieg-05.05.2026-pdf.jpg
CATEGORIES:Abendveranstaltung
LOCATION:Akademie Schwerin e.V.\, Mecklenburgstraße 59\, Schwerin\, Meckle
 nburg-Vorpommern\, 19053\, Deutschland
X-APPLE-STRUCTURED-LOCATION;VALUE=URI;X-ADDRESS=Mecklenburgstraße 59\, Sch
 werin\, Mecklenburg-Vorpommern\, 19053\, Deutschland;X-APPLE-RADIUS=100;X-
 TITLE=Akademie Schwerin e.V.:geo:0,0
END:VEVENT
END:VCALENDAR