BEGIN:VCALENDAR
VERSION:2.0
PRODID:-//wp-events-plugin.com//7.2.3.1//EN
BEGIN:VEVENT
UID:114@akademie-schwerin.de
DTSTART:20220309T100000Z
DTEND:20220309T140000Z
DTSTAMP:20220217T103255Z
URL:https://akademie-schwerin.de/veranstaltungen/digitalforum-mv-ein-gesel
 lschaftlicher-dialog-zur-digitalen-bildung/
SUMMARY:Digitalforum MV - Ein gesellschaftlicher Dialog zur digitalen Bildu
 ng
DESCRIPTION:Das Digitale Innovationszentrum Schwerin veranstaltet gemeinsam
  mit der IHK zu Schwerin\, der Akademie Schwerin e.V. und den Stadtwerken 
 Schwerin das erste Digitalform in Schwerin. Dabei wollen wir den Mehrwert 
 der Digitalisierung für unsere Gesellschaft in MV erkunden. Im Corona-Jah
 r 2022 richten wir den Fokus auf die Schulen und eröffnen die Reihe mit e
 inem gesellschaftlichen Dialog zur digitalen Bildung.\n\nAufgrund der aktu
 ellen Lage verlegen wir die Veranstaltung per Zoom in den digitalen Raum\;
  eine Teilnahme vom Digitalen Innovationszentrum Schwerin aus ermöglichen
  wir gern im Einzelfall.\n\nUnd hier finden Sie alle weiteren Infos zum Pr
 ogramm und Ablauf: Digitalforum_Programm\n\nAnmeldung bis zum 04.03.2022 u
 nter innovationszentrum@schwerin.de. Den Teilnehmerlink versenden wir in 
 der Woche der Veranstaltung.Klicken sie rein!\n\nMittwoch 09.03.2022   -
     10.00-14.00 Uhr    -     Online\n\n&nbsp\;\n\n&nbsp\;\n\n \
 n\n&nbsp\;\n\n&nbsp\;\n\n&nbsp\;\n\n \n\n 
ATTACH;FMTTYPE=image/jpeg:https://akademie-schwerin.de/wp-content/uploads/
 2022/01/digitalforum-22.jpg
CATEGORIES:Online-Fachtagung
LOCATION:Online\, Zoom\, Internet\, Deutschland
X-APPLE-STRUCTURED-LOCATION;VALUE=URI;X-ADDRESS=Zoom\, Internet\, Deutschla
 nd;X-APPLE-RADIUS=100;X-TITLE=Online:geo:0,0
END:VEVENT
END:VCALENDAR