BEGIN:VCALENDAR
VERSION:2.0
PRODID:-//wp-events-plugin.com//7.2.3.1//EN
BEGIN:VEVENT
UID:152@akademie-schwerin.de
DTSTART:20230206T190000Z
DTEND:20230206T203000Z
DTSTAMP:20230120T072917Z
URL:https://akademie-schwerin.de/veranstaltungen/ein-jahr-krieg-in-der-ukr
 aine/
SUMMARY:Ein Jahr Krieg in der Ukraine
DESCRIPTION:Am 24. Februar 2022 begann der russische Überfall auf die Ukra
 ine. Zehntausende\, vielleicht hunderttausende Menschen sind seitdem ums L
 eben gekommen. Städte im Kessel\, Stellungskrieg\, Vertreibung\, Verschle
 ppung\, "Filtrationslager" - Begriffe\, von denen wir glaubten\, sie wäre
 n mit dem 20. Jahrhundert verschwunden\, bestimmen heute wieder den Duktus
  der Nachrichten. Ein Jahr nach Beginn des Krieges wollen wir versuchen\, 
 das Geschehene zu analysieren\, nach Gründen für die russische Aggressio
 n zu suchen\, die westliche Politik zu diskutieren und über Lösungswege 
 nachzudenken.\n\nDer Politikwissenschaftler Dr. Udo Metzinger führt mit e
 inem Vortrag in die Thematik ein und steht anschließend für Fragen und e
 ine Diskussion zur Verfügung. Die Veranstaltung findet online und per Zoo
 m statt\; die Teilnahme ist kostenfrei möglich. Wir bitten um formlose An
 meldung unter sekretariat@akademie-schwerin.de - Zugangsdaten werden dann 
 zugesandt!\n\nDie Veranstaltung ist der Start einer neuen Online-Vortragsr
 eihe der Akademie Schwerin unter dem Motto "Impulse". Wir freuen uns auf I
 hre Teilnahme und Ihre Fragen und Beiträge!
CATEGORIES:Diskussion,Online-Vortrag
LOCATION:Online\, Zoom\, Internet\, Deutschland
X-APPLE-STRUCTURED-LOCATION;VALUE=URI;X-ADDRESS=Zoom\, Internet\, Deutschla
 nd;X-APPLE-RADIUS=100;X-TITLE=Online:geo:0,0
END:VEVENT
END:VCALENDAR