BEGIN:VCALENDAR
VERSION:2.0
PRODID:-//wp-events-plugin.com//7.2.3.1//EN
BEGIN:VEVENT
UID:248@akademie-schwerin.de
DTSTART:20251118T180000Z
DTEND:20251118T193000Z
DTSTAMP:20251110T104624Z
URL:https://akademie-schwerin.de/veranstaltungen/ende-der-neutralitaet-was
 -der-beitritt-der-skandinavischen-staaten-zur-nato-fuer-die-sicherheitsarc
 hitektur-in-europa-bedeutet/
SUMMARY:Ende der Neutralität? Was der Beitritt der skandinavischen Staaten
  zur NATO für die Sicherheitsarchitektur in Europa bedeutet
DESCRIPTION:Online-Reihe IMPULSE -  \n\nFür Schweden und Finnland geht m
 it dem russischen Einmarsch in die Ukraine eine lange Zeit außenpolitisch
 er Neutralität zu Ende. Seit Ende des Zweiten Weltkriegs hielten die Skan
 dinavier sich\, nicht zuletzt aufgrund ihrer geographischen Lage\, mit der
  politischen Nähe zur NATO zurück\, auch wenn beide Staaten schon länge
 r Teil der EU sind. Mit Beginn des russischen Angriffs am 24.02. 2022 wurd
 e diese Haltung in Staat und Gesellschaft beider Länder deutlich hinterfr
 agt – mit dem Ergebnis\, dass beide rasch in die NATO eintraten. Dieses 
 Ende der - letztendlich auch militärischen - Neutralität bedeutet eine Z
 äsur und ordnet die Sicherheitsarchitektur des Ostseeraums neu. Auch wenn
  Russland wiederholt vor einem Beitritt gewarnt und Konsequenzen angedroht
  hat\, blieb die Reaktion des Kremls aufgrund der eigenen militärischen A
 uslastung in der Ukraine eher verhalten. Sabotageakte in der Ostsee sind j
 edoch weiterhin an der Tagesordnung. Finnland hat die mit Abstand längste
  Grenze zu Russland unter den NATO- und EU-Staaten.\n\nDementsprechend ste
 llen sich hier Fragen\, welche Rolle beide Länder im Bündnis zukünftig 
 spielen wollen\, wie die jeweiligen Gesellschaften sich auf mögliche Konf
 likte vorbereiten und welche Strategie die NATO an dieser langen Außengre
 nze mit besonderen klimatischen und räumlichen Herausforderungen verfolge
 n wird.\n\nDieser Beitrag liefert eine Einschätzung zum zukünftigen Enga
 gement Finnlands und Schwedens innerhalb der NATO. Dabei wird auch auf den
  Ausbau russischer Basen an der finnischen Grenze eingegangen. Zudem wird 
 die mögliche Bedeutung der beiden skandinavischen Staaten für die Sicher
 ung des Baltikums diskutiert.\n\nReferentin: Ricarda Steinbach\, Politikwi
 ssenschaftlerin Fulda\, Dozentin im Bereich Sicherheitspolitik und politis
 che Bildung\n\nAnmeldung unter: sekretariat@akademie-schwerin.de\noder tel
 efonisch unter 0385 555709-0
ATTACH;FMTTYPE=image/jpeg:https://akademie-schwerin.de/wp-content/uploads/
 2025/11/Impulse-18.11.2025-pdf.jpg
CATEGORIES:Online-Talk,Online-Vortrag
LOCATION:Online\, entfällt\, entfällt\, Deutschland
X-APPLE-STRUCTURED-LOCATION;VALUE=URI;X-ADDRESS=entfällt\, entfällt\, Deu
 tschland;X-APPLE-RADIUS=100;X-TITLE=Online:geo:0,0
END:VEVENT
END:VCALENDAR