BEGIN:VCALENDAR
VERSION:2.0
PRODID:-//wp-events-plugin.com//7.2.3.1//EN
BEGIN:VEVENT
UID:37@akademie-schwerin.de
DTSTART;VALUE=DATE:20191105
DTEND;VALUE=DATE:20191108
DTSTAMP:20191002T083027Z
URL:https://akademie-schwerin.de/veranstaltungen/europa-in-der-krise-zum-z
 ustand-und-zur-zukunft-der-eu/
SUMMARY:Europa in der Krise: Zum Zustand und zur Zukunft der EU
DESCRIPTION:Die Teilnehmerinnen und Teilnehmer\n- erhalten einen Überblick
  zu aktuellen Rahmenbedingungen europäischer Sicherheit\;\n- befassen sic
 h mit Krisen- und Konfliktherden im Kontext\;\n- diskutieren Hintergründe
 \, aktuellen Sachstand und mögliche Folgen des Brexit\;\n- vertiefen die 
 theoretisch vermittelten Kenntnisse an aktuellen europa- und sicherheitspo
 litischen Themen im Rahmen eines Plan- und Rollenspiels\;\n- lernen dabei 
 die Funktionsweise der Europäischen Union im sicherheitspolitischen Konte
 xt kennen\, ihre Grenzen und Potentiale\;\n- diskutieren Perspektiven der 
 transatlantischen Beziehungen und erarbeiten grundlegende Risikofaktoren i
 nternationaler Politik.\n\nDie Teilnehmerinnen und Teilnehmer erhalten im 
 vermittelten Kontext Überblicks- und Orientierungswissen.\n\nTeilnehmer:
  Interessierte Bürgerinnen und Bürger\n\nAnmeldung: bis spätestens 01.
 11.2019 per Post\, Telefon\, Fax\, Mail oder gleich hier. Ihre Anmeldung g
 ilt als angenommen\, wenn Sie keine Absage erhalten\n\nWeitere Information
 en entnehmen Sie bitte dieser PDF. (294 kB)
CATEGORIES:mehrtägig,Seminar,Vortrag
LOCATION:Tagungszentrum am Schloss\, Mecklenburgstraße 59\, Schwerin\, Mec
 klenburg-Vorpommern\, 19053\, Deutschland
X-APPLE-STRUCTURED-LOCATION;VALUE=URI;X-ADDRESS=Mecklenburgstraße 59\, Sch
 werin\, Mecklenburg-Vorpommern\, 19053\, Deutschland;X-APPLE-RADIUS=100;X-
 TITLE=Tagungszentrum am Schloss:geo:0,0
END:VEVENT
END:VCALENDAR