BEGIN:VCALENDAR
VERSION:2.0
PRODID:-//wp-events-plugin.com//7.2.3.1//EN
BEGIN:VEVENT
UID:222@akademie-schwerin.de
DTSTART;VALUE=DATE:20250617
DTEND;VALUE=DATE:20250620
DTSTAMP:20250325T122959Z
URL:https://akademie-schwerin.de/veranstaltungen/europa-und-der-nahe-osten
 -sicherheitsrisiken-an-der-suedostflanke-der-eu/
SUMMARY:Europa und der Nahe Osten Sicherheitsrisiken an der Südostflanke d
 er EU
DESCRIPTION:340\,00 Euro/Person bei Unterbringung um Einzelzimmer
CATEGORIES:mehrtägig,Seminar
LOCATION:Akademie Schwerin e. V.\, Mecklenburgstraße 59\, Schwerin\, Meckl
 enburg-Vorpommern\, 19053\, Deutschland
X-APPLE-STRUCTURED-LOCATION;VALUE=URI;X-ADDRESS=Mecklenburgstraße 59\, Sch
 werin\, Mecklenburg-Vorpommern\, 19053\, Deutschland;X-APPLE-RADIUS=100;X-
 TITLE=Akademie Schwerin e. V.:geo:0,0
END:VEVENT
END:VCALENDAR