BEGIN:VCALENDAR
VERSION:2.0
PRODID:-//wp-events-plugin.com//7.2.3.1//EN
BEGIN:VEVENT
UID:69@akademie-schwerin.de
DTSTART:20201007T100000Z
DTEND:20201007T170000Z
DTSTAMP:20200911T082220Z
URL:https://akademie-schwerin.de/veranstaltungen/fluchtpunkt-skandinavien/
SUMMARY:„Fluchtpunkt Skandinavien“
DESCRIPTION:Akademische Tag unter dem Titel „Fluchtpunkt Skandinavien“\
 n\nDer Akademische Tag unter dem Titel „Fluchtpunkt Skandinavien“ betr
 achtet u.a. den Aspekt von Verfolgung\,\nBeeinträchtigung und Wandel im k
 ünstlerischen Schaffen infolge der Erfahrung von Flucht und Exil.\nMusikw
 issenschaftler*innen mit internationaler Reputation werden in sechs Vortr
 ägen darlegen\, in wieweit die Flucht\ndas Schaffen von Musiker*innen und
  Komponisten*innen bzw. ihre Abkehr vom eigenen Land das Musikleben im NS 
 Regime beeinflussten. Die Frage stellt sich nach den existenziellen wie k
 ünstlerischen Überlebensstrategien.\n\nTeilnehmer: Interessierte Bürge
 rinnen und Bürger\n\nAnmeldung: bis spätestens 01.10.2020 per Post\, Te
 lefon\, Fax\, Mail oder gleich hier. Ihre Anmeldung gilt als angenommen\, 
 wenn Sie keine Absage erhalten\n\nWeitere Informationen entnehmen Sie bitt
 e dieser PDF
CATEGORIES:Vortrag
LOCATION:Ataraxia Schwerin\, Arsenalstraße 8\, Schwerin\, Mecklenburg-Vorp
 ommern\, 19053\, Deutschland
X-APPLE-STRUCTURED-LOCATION;VALUE=URI;X-ADDRESS=Arsenalstraße 8\, Schwerin
 \, Mecklenburg-Vorpommern\, 19053\, Deutschland;X-APPLE-RADIUS=100;X-TITLE
 =Ataraxia Schwerin:geo:0,0
END:VEVENT
END:VCALENDAR