BEGIN:VCALENDAR
VERSION:2.0
PRODID:-//wp-events-plugin.com//7.2.3.1//EN
BEGIN:VEVENT
UID:153@akademie-schwerin.de
DTSTART;VALUE=DATE:20230313
DTEND;VALUE=DATE:20230316
DTSTAMP:20230131T134049Z
URL:https://akademie-schwerin.de/veranstaltungen/radikalisierung-ursachen-
 entwicklungen-und-debatten-eine-einfuehrung-6/
SUMMARY:Radikalisierung: Ursachen\, Entwicklungen und Debatten.  Eine Einf
 ührung
DESCRIPTION:\n
CATEGORIES:mehrtägig,Seminar
LOCATION:Akademie Schwerin e.V.\, Mecklenburgstraße 59\, Schwerin\, Meckle
 nburg-Vorpommern\, 19053\, Deutschland
X-APPLE-STRUCTURED-LOCATION;VALUE=URI;X-ADDRESS=Mecklenburgstraße 59\, Sch
 werin\, Mecklenburg-Vorpommern\, 19053\, Deutschland;X-APPLE-RADIUS=100;X-
 TITLE=Akademie Schwerin e.V.:geo:0,0
END:VEVENT
END:VCALENDAR