BEGIN:VCALENDAR
VERSION:2.0
PRODID:-//wp-events-plugin.com//7.2.3.1//EN
BEGIN:VEVENT
UID:86@akademie-schwerin.de
DTSTART:20210928T180000Z
DTEND:20210928T200000Z
DTSTAMP:20210819T094424Z
URL:https://akademie-schwerin.de/veranstaltungen/teil-deutschlands-sein-er
 innerungen-eines-ehemaligen-politischen-haeftlings-lesung-mit-uwe-maelck/
SUMMARY:Teil Deutschlands sein - Erinnerungen eines ehemaligen politischen 
 Häftlings. Lesung mit dem Schweriner Uwe Mälck
DESCRIPTION:Im Rahmen der "Tage der politischen Bildung in Mecklenburg-Vorp
 ommern" lenkt die Akademie Schwerin kurz vor dem "Tag der Deutschen Einhei
 t" den Blick auf unsere Zeitgeschichte. Genauer: auf die Geschichte der de
 utschen Teilung und auf ein Stück deutscher Diktaturgeschichte. Uwe Mälc
 k liest aus seinem Buch "Teil Deutschlands sein" und erinnert sich an Kind
 heit und Jugend in der DDR\, an einen missglückten Fluchtversuch über di
 e bulgarisch-griechische Grenze 1988\, an seine Erfahrungen als politische
 r Häftling in den Händen der Stasi\, an erfahrenes Unrecht. An den schli
 eßlich möglichen "Freikauf" durch die Bundesrepublik und einen Neuanfang
  "im Westen"\, der schließlich doch wieder nach Schwerin führte.\n\nDeut
 sche Zeitgeschichte aus Schwerin: Uwe Mälck wirft einen Blick zurück\, a
 ls am Demmlerplatz noch die Staatssicherheit den Ton angab. Doch der Autor
  bleibt nicht in der Vergangenheit stehen: Die Frage des heutigen Verhält
 nisses von Ost und West treibt ihn um - die "innere Einheit Deutschlands" 
 wird Thema einer abschließenden Diskussionsrunde im Plenum.\n\nDie Akadem
 ie Schwerin freut sich sehr auf eine spannende Lesung und den anschließen
 den Austausch mit Herrn Mälck und allen Gästen.\n\nDie maximal zulässig
 e Zahl an Gästen vor Ort beträgt 14 Personen\; bei größerem Zuspruch b
 esteht\, wenn alle Plätze ausgebucht sind\, auf Anfrage die Möglichkeit 
 zur Online-Teilnahme per Zoom.\n\nDie Teilnahme setzt eine vorherige Anmel
 dung zwingend voraus - diese ist hier online\, per Mail unter sekretariat@
 akademie-schwerin.de oder telefonisch unter 0385 555 70 9-0 möglich. Der 
 Besuch der Veranstaltung ist kostenfrei.\n\nUnd noch ein Hinweis zu "Coron
 a": Es gilt die "3-G-Regel": Die Teilnahme erfordert den Nachweis von Impf
 ung\, Testung oder Genesung.
ATTACH;FMTTYPE=image/jpeg:https://akademie-schwerin.de/wp-content/uploads/
 2021/08/Mälck-Buch.jpg
CATEGORIES:Abendveranstaltung,Hybrid-Tagung,Lesung
LOCATION:Akademie Schwerin e. V.\, Mecklenburgstraße 59\, Schwerin\, Meckl
 enburg-Vorpommern\, 19053\, Deutschland
X-APPLE-STRUCTURED-LOCATION;VALUE=URI;X-ADDRESS=Mecklenburgstraße 59\, Sch
 werin\, Mecklenburg-Vorpommern\, 19053\, Deutschland;X-APPLE-RADIUS=100;X-
 TITLE=Akademie Schwerin e. V.:geo:0,0
END:VEVENT
END:VCALENDAR