BEGIN:VCALENDAR
VERSION:2.0
PRODID:-//wp-events-plugin.com//7.2.3.1//EN
BEGIN:VEVENT
UID:250@akademie-schwerin.de
DTSTART:20260203T180000Z
DTEND:20260203T193000Z
DTSTAMP:20260120T101741Z
URL:https://akademie-schwerin.de/veranstaltungen/unter-beobachtung-arbeits
 weise-der-stasi-und-ihre-folgen-fuer-die-bevoelkerung-veranstaltungsreihe/
SUMMARY:Unter Beobachtung - Arbeitsweise der Stasi und ihre Folgen für die
  Bevölkerung (Veranstaltungsreihe)
DESCRIPTION:Die Teilnahme ist kostenfrei. Alle Interessierten sind herzlich
  eingeladen. Um vorherige Anmeldung wird gebeten: sekretariat@akademie-sch
 werin.de oder 0385 5557090.
ATTACH;FMTTYPE=image/jpeg:https://akademie-schwerin.de/wp-content/uploads/
 2025/12/Unter-Beobachtung-2.-Beitrag-pdf.jpg
CATEGORIES:Abendveranstaltung
LOCATION:Akademie Schwerin e.V.\, Mecklenburgstraße 59\, Schwerin\, Meckle
 nburg-Vorpommern\, 19053\, Deutschland
X-APPLE-STRUCTURED-LOCATION;VALUE=URI;X-ADDRESS=Mecklenburgstraße 59\, Sch
 werin\, Mecklenburg-Vorpommern\, 19053\, Deutschland;X-APPLE-RADIUS=100;X-
 TITLE=Akademie Schwerin e.V.:geo:0,0
END:VEVENT
END:VCALENDAR