BEGIN:VCALENDAR
VERSION:2.0
PRODID:-//wp-events-plugin.com//7.2.3.1//EN
BEGIN:VEVENT
UID:249@akademie-schwerin.de
DTSTART:20251215T090000Z
DTEND:20251217T170000Z
DTSTAMP:20251113T103745Z
URL:https://akademie-schwerin.de/veranstaltungen/verstehen-auch-ohne-zuzus
 timmen-demokratisch-streiten-lernen-3/
SUMMARY:“Verstehen\, auch ohne zuzustimmen – demokratisch streiten lern
 en”
DESCRIPTION:Die Teilnehmerinnen und Teilnehmer\n\n 	erarbeiten gemeinsam Gr
 undlagenkenntnisse der Extremismusforschung und diskutieren Motive der Rad
 ikalisierung von Menschen\;\n 	reflektieren und erproben Rahmenbedingungen
  einer demokratischen\, konstruktiven Streitkultur\;\n 	erarbeiten Möglic
 hkeiten des Zugangs und der Kommunikation mit radikalisierten Menschen\n 	
 und diskutieren in aktuellen politischen Kontexten Voraussetzungen des Umg
 angs mit Radikalisierung in einer demokratischen Gesellschaft. \n\nDas Se
 minar zielt neben der Vermittlung von Wissen auch auf die Reflexion eigene
 r Dialogfähigkeiten und struktureller Voraussetzungen einer demokratisch 
 geprägten Streitkultur.\n\nAlle weiteren Informationen zum Programm und z
 ur Anmeldung finden Sie hier:  2025-12-15 demokratisch streiten
CATEGORIES:mehrtägig,Seminar
LOCATION:Akademie Schwerin e.V.\, Mecklenburgstraße 59\, Schwerin\, Meckle
 nburg-Vorpommern\, 19053\, Deutschland
X-APPLE-STRUCTURED-LOCATION;VALUE=URI;X-ADDRESS=Mecklenburgstraße 59\, Sch
 werin\, Mecklenburg-Vorpommern\, 19053\, Deutschland;X-APPLE-RADIUS=100;X-
 TITLE=Akademie Schwerin e.V.:geo:0,0
END:VEVENT
END:VCALENDAR