BEGIN:VCALENDAR
VERSION:2.0
PRODID:-//wp-events-plugin.com//7.2.3.1//EN
BEGIN:VEVENT
UID:258@akademie-schwerin.de
DTSTART:20260318T180000Z
DTEND:20260318T193000Z
DTSTAMP:20260304T114206Z
URL:https://akademie-schwerin.de/veranstaltungen/vortragsreihe-die-ueberga
 be-schwerins-und-westmecklenburgs-an-die-rote-armee-am-01-juli-1945/
SUMMARY:Vortragsreihe: Die Übergabe Schwerins und Westmecklenburgs an die 
 Rote Armee am 01. Juli 1945
DESCRIPTION:Am 2. Mai 1945 endete der Zweite Weltkrieg für Schwerin. Die S
 tadt wurde befreit. Jedoch nicht von der Roten Armee – wie der spätere 
 Verlauf der Geschichte vermuten lassen könnte – sondern von US-amerikan
 ischen Einheiten. Die Übergabe der Stadt und der gesamten Region an die s
 owjetischen Truppen erfolgte erst – nach einer kurzen Phase der britisch
 en Besatzung – am 1. Juli 1945. Doch wie kam es dazu? Welche politischen
  Hintergründe führten zur Übergabe Schwerin und zur anschließenden Ein
 gliederung in der Sowjetische Besatzungszone? Wie wurde dieser Übergang v
 or Ort vollzogen und wie nahmen die Menschen diese Entwicklung war? Dieser
  Beitrag befasst sich mit einer Episode der Geschichte\, die heute kaum me
 hr präsent ist\, die die weite Geschichte Schwerins und Mecklenburgs jedo
 ch entscheidend geprägt hat.
ATTACH;FMTTYPE=image/jpeg:https://akademie-schwerin.de/wp-content/uploads/
 2026/03/MV-nach-dem-Krieg-18.03.2026-pdf.jpg
CATEGORIES:Abendveranstaltung
LOCATION:Akademie Schwerin e.V.\, Mecklenburgstraße 59\, Schwerin\, Meckle
 nburg-Vorpommern\, 19053\, Deutschland
X-APPLE-STRUCTURED-LOCATION;VALUE=URI;X-ADDRESS=Mecklenburgstraße 59\, Sch
 werin\, Mecklenburg-Vorpommern\, 19053\, Deutschland;X-APPLE-RADIUS=100;X-
 TITLE=Akademie Schwerin e.V.:geo:0,0
END:VEVENT
END:VCALENDAR